BEGIN:VCALENDAR
VERSION:2.0
PRODID:-//Northern Ireland Kidney Research Fund - ECPv6.15.20//NONSGML v1.0//EN
CALSCALE:GREGORIAN
METHOD:PUBLISH
X-WR-CALNAME:Northern Ireland Kidney Research Fund
X-ORIGINAL-URL:https://nikidneyresearch.org
X-WR-CALDESC:Events for Northern Ireland Kidney Research Fund
REFRESH-INTERVAL;VALUE=DURATION:PT1H
X-Robots-Tag:noindex
X-PUBLISHED-TTL:PT1H
BEGIN:VTIMEZONE
TZID:UTC
BEGIN:STANDARD
TZOFFSETFROM:+0000
TZOFFSETTO:+0000
TZNAME:UTC
DTSTART:20210101T000000
END:STANDARD
END:VTIMEZONE
BEGIN:VEVENT
DTSTART;TZID=UTC:20221116T200000
DTEND;TZID=UTC:20221116T200000
DTSTAMP:20260419T143550
CREATED:20220718T101938Z
LAST-MODIFIED:20221019T105507Z
UID:1762-1668628800-1668628800@nikidneyresearch.org
SUMMARY:NI Kidney Research Fund Meeting
DESCRIPTION:
URL:https://nikidneyresearch.org/event/ni-kidney-research-meeting-2/
LOCATION:Belfast City Hospital\, Seminar Room 3 in Cancer Centre\, 51 Lisburn Rd\, Belfast\, BT9 7AB
ATTACH;FMTTYPE=image/jpeg:https://nikidneyresearch.org/wp-content/uploads/2022/07/Event-Meeting.jpg
END:VEVENT
END:VCALENDAR